BEGIN:VCALENDAR
VERSION:2.0
PRODID:-//IMAGINE! Formations - Évolution et insertion professionnelle - ECPv6.15.14//NONSGML v1.0//EN
CALSCALE:GREGORIAN
METHOD:PUBLISH
X-WR-CALNAME:IMAGINE! Formations - Évolution et insertion professionnelle
X-ORIGINAL-URL:https://imagine-emploiformation.com
X-WR-CALDESC:Évènements pour IMAGINE! Formations - Évolution et insertion professionnelle
REFRESH-INTERVAL;VALUE=DURATION:PT1H
X-Robots-Tag:noindex
X-PUBLISHED-TTL:PT1H
BEGIN:VTIMEZONE
TZID:America/Guadeloupe
BEGIN:STANDARD
TZOFFSETFROM:-0400
TZOFFSETTO:-0400
TZNAME:AST
DTSTART:20250101T000000
END:STANDARD
END:VTIMEZONE
BEGIN:VEVENT
DTSTART;TZID=America/Guadeloupe:20260313T083000
DTEND;TZID=America/Guadeloupe:20260313T163000
DTSTAMP:20260420T024403
CREATED:20260115T165654Z
LAST-MODIFIED:20260324T144320Z
UID:3711-1773390600-1773419400@imagine-emploiformation.com
SUMMARY:13 & 20 Mars l Premiers Secours en Santé Mentale - Standard
DESCRIPTION:Développez les compétences essentielles pour accompagner les personnes en souffrance psychologique. \nSur 2 jours : 13 et 20 mars 2026 \nPour apporter un soutien immédiat et bienveillant aux personnes traversant une détresse psychologique\, que ce soit dans votre entourage ou en milieu professionnel. \nInscriptions : https://bit.ly/imagine-pssm
URL:https://imagine-emploiformation.com/index.php/agenda/13-20-mars-l-premiers-secours-en-sante-mentale-standard/
LOCATION:Petit-Pérou\, Les Abymes
CATEGORIES:Formation PSSM
END:VEVENT
END:VCALENDAR